BEGIN:VCALENDAR
VERSION:2.0
PRODID:-//Plone.org//NONSGML plone.app.event//EN
X-WR-TIMEZONE:Europe/Berlin
BEGIN:VEVENT
SUMMARY:Anmeldung zur Masterprüfung (Registrierung)
DTSTART;VALUE=DATE:20260401
DTEND;VALUE=DATE:20260501
DTSTAMP:20260425T192208Z
UID:bb066b1514c6447fa8cec24f7383b44a@www.mathematics.uni-bonn.de
CATEGORIES:Master Mathematics
CREATED:20230125T122309Z
DESCRIPTION:Nach Ihrer Einschreibung in den Masterstudiengang Mathematics 
 müssen Sie sich einmalig im Bachelor-Master-Büro Mathematik zur Masterpr
 üfung anmelden ("registrieren"). Bitte beachten Sie dabei \n- welche Unte
 rlagen erforderlich sind\, und \n- unsere Sprechzeiten.
LAST-MODIFIED:20260204T125513Z
URL:https://www.mathematics.uni-bonn.de/studium/de/studienorganisation/ter
 mine/anmeldung-zur-masterpruefung
END:VEVENT
END:VCALENDAR
