BEGIN:VCALENDAR
VERSION:2.0
PRODID:-//Plone.org//NONSGML plone.app.event//EN
X-WR-TIMEZONE:Europe/Berlin
BEGIN:VEVENT
SUMMARY:Auswahl der Seminare S1G1
DTSTART;TZID=Europe/Berlin:20260116T140000
DTEND;TZID=Europe/Berlin:20260118T235500
DTSTAMP:20260422T233705Z
UID:4abafaee90544d72b0d0d3dedd5632c4@www.mathematics.uni-bonn.de
CATEGORIES:Bachelor Mathematik
CREATED:20230125T122309Z
DESCRIPTION:Nach der Informationsveranstaltung zu den Seminaren S1G1 finde
 n Sie hier das Auswahlformular\, in dem Sie bitte Ihre Teilnahmewünsche e
 intragen. Dies ist bis Sonntag\, 18. Januar\, möglich.\n\nAnschließend w
 erden die Einträge ausgewertet und die Vergabe der Plätze vorgenommen. D
 as Ergebnis finden Sie dann ebenfalls bei den Terminen veröffentlicht.
LAST-MODIFIED:20260115T085149Z
URL:https://www.mathematics.uni-bonn.de/studium/de/studienorganisation/ter
 mine/auswahl-seminare-s1g1
END:VEVENT
BEGIN:VTIMEZONE
TZID:Europe/Berlin
X-LIC-LOCATION:Europe/Berlin
BEGIN:STANDARD
DTSTART:20251026T020000
TZNAME:CET
TZOFFSETFROM:+0200
TZOFFSETTO:+0100
END:STANDARD
END:VTIMEZONE
END:VCALENDAR
