BEGIN:VCALENDAR
VERSION:2.0
PRODID:-//Plone.org//NONSGML plone.app.event//EN
X-WR-TIMEZONE:Europe/Berlin
BEGIN:VEVENT
SUMMARY:Prüfungstermine von Vorlesungsmodulen - Wintersemester
DTSTART;VALUE=DATE:20260131
DTEND;VALUE=DATE:20260401
DTSTAMP:20260422T093826Z
UID:20ff57aded084517b539249b98953e7f@www.mathematics.uni-bonn.de
CATEGORIES:Bachelor Mathematik,Lehramt Mathematik,Master Mathematics
CREATED:20230125T122309Z
DESCRIPTION:Für jedes Vorlesungsmodul gibt es pro Semester zwei Prüfungs
 termine. Der erste findet zum Ende der Vorlesungszeit statt\, der zweite a
 m Ende des Semesters. \n\nIn den unten verlinkten Übersichten finden Sie 
 \n- die festgelegten beiden Prüfungstermine für alle schriftlichen Prüf
 ungen sowie zu gegebener Zeit \n- die von den DozentInnen gemeldeten Prüf
 ungszeiträume für die mündlichen Prüfungen. \n\nBitte beachten Sie uns
 ere geltenden Modalitäten für die Prüfungsanmeldung!
LAST-MODIFIED:20250827T122325Z
URL:https://www.mathematics.uni-bonn.de/studium/de/studienorganisation/ter
 mine/prftermine-vorlesungsmodule-wise
END:VEVENT
END:VCALENDAR
