BEGIN:VCALENDAR
VERSION:2.0
PRODID:-//Plone.org//NONSGML plone.app.event//EN
X-WR-TIMEZONE:Europe/Berlin
BEGIN:VEVENT
SUMMARY:Prüfungsanmeldung Informatik (Vorlesungen/Übungen)
DTSTART;VALUE=DATE:20241201
DTEND;VALUE=DATE:20250116
DTSTAMP:20260422T183050Z
UID:c7476afcc7c2421ca5eefb317905e720@www.mathematics.uni-bonn.de
CATEGORIES:Bachelor Mathematik,Master Mathematics
CREATED:20231209T162234Z
DESCRIPTION:Es gelten die Regelungen der Informatik. Bitte informieren Sie
  sich daher immer auf deren Webseiten über die Modalitäten der Prüfungs
 anmeldung und die aktuellen Fristen.\n\nBitte beachten:\nDie Anmeldung zum
  2. Prüfungstermin ist ab dem 10. August möglich. Dafür muss jedoch vor
  dem 1. Prüfungstermin die Übung angemeldet worden sein!
LAST-MODIFIED:20240924T125124Z
URL:https://www.mathematics.uni-bonn.de/studium/de/studienorganisation/ter
 mine/pruefungsanmeldung-informatik-vorlesungen
END:VEVENT
END:VCALENDAR
