BEGIN:VCALENDAR
VERSION:2.0
PRODID:-//Plone.org//NONSGML plone.app.event//EN
X-WR-TIMEZONE:Europe/Berlin
BEGIN:VEVENT
SUMMARY:Prüfungsanmeldung für Seminare und Praktika
DTSTART;VALUE=DATE:20260401
DTEND;VALUE=DATE:20260501
DTSTAMP:20260424T102132Z
UID:419a80b9e61c4e5ca0f9ec7a2c120f69@www.mathematics.uni-bonn.de
CATEGORIES:Bachelor Mathematik,Lehramt Mathematik,Master Mathematics
CREATED:20230125T122309Z
DESCRIPTION:Die Anmeldung zu Seminaren erfolgt in zwei Schritten:\n\n1) Ve
 rbindliche Anmeldung beim Dozenten mit Unterschrift und Themenvergabe\;\n2
 ) Technische Anmeldung über BASIS in der Anmeldefrist.\n\nAuch die Prakti
 ka (Tutoren-/Programmierpraktika) werden über BASIS angemeldet. Beim Tuto
 renpraktikum wählen Sie bitte als Prüfer den Dozenten der Vorlesung\, di
 e Sie tutorieren.\n\nDie Anmeldung zu einem Industriepraktikum ist nicht a
 n die Frist gebunden\, dafür benutzen Sie bitte das Formular.
LAST-MODIFIED:20260204T130331Z
URL:https://www.mathematics.uni-bonn.de/studium/de/studienorganisation/ter
 mine/pruefungsanmeldung-seminare-praktika
END:VEVENT
END:VCALENDAR
