BEGIN:VCALENDAR
VERSION:2.0
PRODID:-//Plone.org//NONSGML plone.app.event//EN
X-WR-TIMEZONE:Europe/Berlin
BEGIN:VEVENT
SUMMARY:Vorstellung der Seminare S1G1
DTSTART;TZID=Europe/Berlin:20260116T140000
DTEND;TZID=Europe/Berlin:20260116T150000
DTSTAMP:20260426T010451Z
UID:1d54f5c43c4f442ca55f8dc131882577@www.mathematics.uni-bonn.de
CATEGORIES:Bachelor Mathematik
CREATED:20230125T122309Z
DESCRIPTION:In jedem Sommersemester werden verschiedene einführende Semin
 are (S1G1) speziell für Studierende im 2. Fachsemester des Bachelorstudie
 ngangs Mathematik angeboten. Die Einzelheiten zu den Seminaren sehen Sie i
 m Vorlesungsverzeichnis\, das drei Wochen vor dem Ende der Vorlesungszeit 
 freigeschaltet wird.\n\nDie DozentInnen stellen ihre Seminare in dieser In
 formationsveranstaltung vor. Anschließend können alle Interessenten die 
 Seminare\, an denen sie teilnehmen möchten\, über ein Onlineformular aus
 wählen. Danach erfolgt die Vergabe der Plätze\, und das Ergebnis wird an
 schließend bei den Terminen veröffentlicht.\n\nIm Sommersemester 2026 we
 rden 7 Seminare S1G1 angeboten von\n- Dr. Ulrich Brenner\n- Prof. Anton Bo
 vier\n- Prof. Joscha Gedicke\n- Dr. Antje Kiesel\n- Dr. Regula Krapf\n- Dr
 . René Marczinzik\n- Prof. Lisa Sauermann.
LAST-MODIFIED:20260113T085209Z
URL:https://www.mathematics.uni-bonn.de/studium/de/studienorganisation/ter
 mine/vorstellung-der-seminare-s1g1
END:VEVENT
BEGIN:VTIMEZONE
TZID:Europe/Berlin
X-LIC-LOCATION:Europe/Berlin
BEGIN:STANDARD
DTSTART:20251026T020000
TZNAME:CET
TZOFFSETFROM:+0200
TZOFFSETTO:+0100
END:STANDARD
END:VTIMEZONE
END:VCALENDAR
