BEGIN:VCALENDAR
VERSION:2.0
PRODID:-//Plone.org//NONSGML plone.app.event//EN
X-WR-TIMEZONE:Europe/Berlin
BEGIN:VEVENT
SUMMARY:Selection of the Seminars Höhere Mathematik
DTSTART;TZID=Europe/Berlin:20260120T180000
DTEND;TZID=Europe/Berlin:20260121T235500
DTSTAMP:20260422T210914Z
UID:0c19d71809a6490b8d5a5d4ce81cc448@www.mathematics.uni-bonn.de
CATEGORIES:Lehramt Mathematik
CREATED:20230125T122309Z
DESCRIPTION:After the information event about the seminars Höhere Mathema
 tik (MB04) you can find here the selection form. Please enter your partici
 pation choices. This will be possible until Wednesday\, January 21\, 2026.
 \n\nAfter that\, the entries will be evaluated and the places will be dist
 ributed. You will then find the result published in the calendar as well.
LAST-MODIFIED:20260115T085233Z
URL:https://www.mathematics.uni-bonn.de/studium/en/study-organization/cale
 ndar/auswahl-seminare-hoehere-mathematik
END:VEVENT
BEGIN:VTIMEZONE
TZID:Europe/Berlin
X-LIC-LOCATION:Europe/Berlin
BEGIN:STANDARD
DTSTART:20251026T020000
TZNAME:CET
TZOFFSETFROM:+0200
TZOFFSETTO:+0100
END:STANDARD
END:VTIMEZONE
END:VCALENDAR
