BEGIN:VCALENDAR
VERSION:2.0
PRODID:-//Plone.org//NONSGML plone.app.event//EN
X-WR-TIMEZONE:Europe/Berlin
BEGIN:VEVENT
SUMMARY:Dies academicus
DTSTART;VALUE=DATE:20260520
DTEND;VALUE=DATE:20260521
DTSTAMP:20260420T120301Z
UID:caebfb5793a546ef913ac91f19029d4b@www.mathematics.uni-bonn.de
CATEGORIES:Bachelor Mathematik,Lehramt Mathematik,Master Mathematics
CREATED:20231209T155419Z
DESCRIPTION:Every semester\, the University of Bonn organizes the Dies aca
 demicus\, on which it offers a program from all faculties and departments 
 for all interested parties. Traditionally\, on this day many inaugural lec
 tures are being held.\n\nFor students who are about to graduate\, the Care
 er Day taking place at the same time (in the winter semester) is particula
 rly interesting. \n\nYou will find the complete program on the Studium Uni
 versale website in due course.
LAST-MODIFIED:20260204T125658Z
URL:https://www.mathematics.uni-bonn.de/studium/en/study-organization/cale
 ndar/dies-academicus
END:VEVENT
END:VCALENDAR
