BEGIN:VCALENDAR
VERSION:2.0
PRODID:-//Plone.org//NONSGML plone.app.event//EN
X-WR-TIMEZONE:Europe/Berlin
BEGIN:VEVENT
SUMMARY:Examination Dates of Lecture Course Modules - Summer Semester
DTSTART;VALUE=DATE:20260722
DTEND;VALUE=DATE:20261001
DTSTAMP:20260424T113527Z
UID:80f781f79bd545dfac85f095eff6274e@www.mathematics.uni-bonn.de
CATEGORIES:Bachelor Mathematik,Lehramt Mathematik,Master Mathematics
CREATED:20230125T122309Z
DESCRIPTION:There are two examination dates per semester for each lecture 
 module. The first takes place at the end of the lecture period\, the secon
 d at the end of the semester.\n\nIn the overviews linked below you will fi
 nd\n- the two fixed examination dates for all written examinations and\, i
 n due course\n- the examination periods notified by the lecturers for the 
 oral examinations.\n\nPlease note our current modalities for exam registra
 tion!
LAST-MODIFIED:20260225T074302Z
URL:https://www.mathematics.uni-bonn.de/studium/en/study-organization/cale
 ndar/examination-dates-of-lecture-courses-summer
END:VEVENT
END:VCALENDAR
