BEGIN:VCALENDAR
VERSION:2.0
PRODID:-//Plone.org//NONSGML plone.app.event//EN
X-WR-TIMEZONE:Europe/Berlin
BEGIN:VEVENT
SUMMARY:Information Talk about Studying Abroad
DTSTART;TZID=Europe/Berlin:20251210T161500
DTEND;TZID=Europe/Berlin:20251210T174500
DTSTAMP:20260420T033250Z
UID:726678c94dbe4a3cb908317a035fcd0b@www.mathematics.uni-bonn.de
CATEGORIES:Bachelor Mathematik,Lehramt Mathematik,Master Mathematics
CREATED:20230125T122309Z
DESCRIPTION:Every year\, the ERASMUS coordinator of Mathematics and the In
 ternational Office of the University of Bonn provide information about the
  possibilities of exchange and studying abroad.
LAST-MODIFIED:20250915T134646Z
URL:https://www.mathematics.uni-bonn.de/studium/en/study-organization/cale
 ndar/information-talk-about-studying-abroad
END:VEVENT
BEGIN:VTIMEZONE
TZID:Europe/Berlin
X-LIC-LOCATION:Europe/Berlin
BEGIN:STANDARD
DTSTART:20251026T020000
TZNAME:CET
TZOFFSETFROM:+0200
TZOFFSETTO:+0100
END:STANDARD
END:VTIMEZONE
END:VCALENDAR
