BEGIN:VCALENDAR
VERSION:2.0
PRODID:-//Plone.org//NONSGML plone.app.event//EN
X-WR-TIMEZONE:Europe/Berlin
BEGIN:VEVENT
SUMMARY:Carnival
DTSTART;VALUE=DATE:20260212
DTEND;VALUE=DATE:20260217
DTSTAMP:20260422T151315Z
UID:d129a7cecec1495fb39672064cb8c602@www.mathematics.uni-bonn.de
CATEGORIES:Bachelor Mathematik,Lehramt Mathematik,Master Mathematics
CREATED:20231209T155419Z
DESCRIPTION:Presumably the opening hours of the Bachelor-Master Office Mat
 hematics during the carnival will be as follows:\n- On "Weiberfastnacht" (
 Thursday February 12th) the office hours will take place. \n- On "Rosenmon
 tag" (Monday February 16th) the Bachelor-Master Office Mathematics will be
  closed.
LAST-MODIFIED:20250715T110353Z
URL:https://www.mathematics.uni-bonn.de/studium/en/study-organization/cale
 ndar/karneval
END:VEVENT
END:VCALENDAR
