BEGIN:VCALENDAR
VERSION:2.0
PRODID:-//Plone.org//NONSGML plone.app.event//EN
X-WR-TIMEZONE:Europe/Berlin
BEGIN:VEVENT
SUMMARY:Master Welcome
DTSTART;TZID=Europe/Berlin:20251008T100000
DTEND;TZID=Europe/Berlin:20251008T120000
DTSTAMP:20260421T111738Z
UID:7ee2426edc9943aab30a8ded01399744@www.mathematics.uni-bonn.de
CATEGORIES:Master Mathematics
CREATED:20230125T122309Z
DESCRIPTION:Shortly before the start of the lecture period\, we invite int
 ernational first-year Master's students to a welcome event. \n \nOver coff
 ee and tea\, you can get to know the staff of the Bachelor-Master Office M
 athematics and ask questions about the study program. The meeting will als
 o give you the opportunity to make your first contacts among each other.  
 \n\nWe hope that many new international students will attend. Welcome to t
 he University of Bonn!
LAST-MODIFIED:20250910T084655Z
URL:https://www.mathematics.uni-bonn.de/studium/en/study-organization/cale
 ndar/master-welcome
END:VEVENT
BEGIN:VTIMEZONE
TZID:Europe/Berlin
X-LIC-LOCATION:Europe/Berlin
BEGIN:DAYLIGHT
DTSTART:20250330T030000
TZNAME:CEST
TZOFFSETFROM:+0100
TZOFFSETTO:+0200
END:DAYLIGHT
END:VTIMEZONE
END:VCALENDAR
