BEGIN:VCALENDAR
VERSION:2.0
PRODID:-//Plone.org//NONSGML plone.app.event//EN
X-WR-TIMEZONE:Europe/Berlin
BEGIN:VEVENT
SUMMARY:Distribution of Places in the Seminars Höhere Mathematik
DTSTART;VALUE=DATE:20260122
DTEND;VALUE=DATE:20260301
DTSTAMP:20260421T230426Z
UID:e92d8b5e65d64073899539a651a0e7c3@www.mathematics.uni-bonn.de
CATEGORIES:Lehramt Mathematik
CREATED:20230125T122309Z
DESCRIPTION:After the information event on the seminars Höhere Mathematik
  (MB04)\, we evaluated the selection form with the participation requests 
 and allocated the places. You can find the results published here.
LAST-MODIFIED:20260123T102848Z
URL:https://www.mathematics.uni-bonn.de/studium/en/study-organization/cale
 ndar/platzverteilung-seminare-hoehere-mathematik
END:VEVENT
END:VCALENDAR
