BEGIN:VCALENDAR
VERSION:2.0
PRODID:-//Plone.org//NONSGML plone.app.event//EN
X-WR-TIMEZONE:Europe/Berlin
BEGIN:VEVENT
SUMMARY:Registration for the Bachelor's Examination
DTSTART;VALUE=DATE:20260401
DTEND;VALUE=DATE:20260501
DTSTAMP:20260426T011555Z
UID:595ca598bada40ab89dd20e6e9f22f38@www.mathematics.uni-bonn.de
CATEGORIES:Bachelor Mathematik
CREATED:20230125T122309Z
DESCRIPTION:After enrolling in the Bachelor's study program Mathematik you
  must register once for the Bachelor's examination at the  Bachelor-Master
  Office Mathematics. Please note \n- which documents you need to bring\, a
 nd \n- our office hours.
LAST-MODIFIED:20260303T094418Z
URL:https://www.mathematics.uni-bonn.de/studium/en/study-organization/cale
 ndar/registration-for-the-bachelor-examination
END:VEVENT
END:VCALENDAR
